Workbook

Sheet Bestellungen
A1: LipöWAS? - Adress- und Materialliste
A2: Eine Zeile je Lieferadresse. Gelb markierte Felder bitte ausfüllen. Programme: Versand Ende September / Anfang Oktober. Bearbeitung und Versand können 2 bis 4 Tage dauern.
A3: Kontakt und Zuordnung | B3: Kontakt und Zuordnung | C3: Kontakt und Zuordnung | D3: Kontakt und Zuordnung | E3: Kontakt und Zuordnung | F3: Kontakt und Zuordnung | G3: Kontakt und Zuordnung | H3: Kontakt und Zuordnung | I3: Lieferadresse | J3: Lieferadresse | K3: Lieferadresse | L3: Lieferadresse | M3: Versand oder Abholung | N3: Versand oder Abholung | O3: Versand oder Abholung | P3: Versand oder Abholung | Q3: Verteilung und Portokosten | R3: Verteilung und Portokosten | S3: Verteilung und Portokosten | T3: Verteilung und Portokosten | U3: Verteilung und Portokosten | V3: Materialmengen | W3: Materialmengen | X3: Materialmengen | Y3: Materialmengen | Z3: Materialmengen | AA3: Materialmengen | AB3: Materialmengen | AC3: Materialmengen | AD3: Materialmengen | AE3: Materialmengen | AF3: Materialmengen | AG3: Materialmengen | AH3: Materialmengen | AI3: Materialmengen | AJ3: Materialmengen | AK3: Materialmengen | AL3: Gesamt und Hinweise | AM3: Gesamt und Hinweise
A4: Status | B4: Eingang am | C4: Bestell-ID | D4: SHG / Stadt / Region | E4: Organisation / Empfänger | F4: Ansprechpartner:in | G4: E-Mail | H4: Telefon | I4: Adresszusatz | J4: Straße / Hausnummer | K4: PLZ | L4: Ort | M4: Versand / Abholung | N4: Abholung: Datum / Uhrzeit | O4: Abholung durch | P4: Kontakt Abholung | Q4: Verteilung über SHG / Sponsor | R4: Anzahl Empfänger:innen | S4: Adressaufkleber + Packlisten zugesandt | T4: Portobeteiligung (EUR) | U4: Rechnungsadresse | V4: Plakate A3 - 4 Motive | W4: Plakate A4 - 4 Motive | X4: Thekenaufsteller DIN lang | Y4: Handzettel Mitmachen | Z4: Postkarte LipöWAS Region | AA4: Roll-up Betroffene | AB4: Roll-up SHG | AC4: Informationsbroschüre | AD4: Flyer Was ist ein Lipödem? | AE4: Postkarte Motivation 1 - Steine | AF4: Postkarte Motivation 2 - You are enough | AG4: Postkarte Motivation 3 - Plane ein Wunder! | AH4: Postkarte Hast Du vielleicht Lipödem? | AI4: Roll-up LipöG allgemein | AJ4: Programm Fachtagung Betroffene - Samstag | AK4: Programm SHG-Leitungen - Freitag | AL4: Gesamt Stück | AM4: Bemerkungen / Hinweise
AL5: =IF(COUNTA(A5:AK5)=0,"",SUM(V5:AK5))
AL6: =IF(COUNTA(A6:AK6)=0,"",SUM(V6:AK6))
AL7: =IF(COUNTA(A7:AK7)=0,"",SUM(V7:AK7))
AL8: =IF(COUNTA(A8:AK8)=0,"",SUM(V8:AK8))
AL9: =IF(COUNTA(A9:AK9)=0,"",SUM(V9:AK9))
AL10: =IF(COUNTA(A10:AK10)=0,"",SUM(V10:AK10))
AL11: =IF(COUNTA(A11:AK11)=0,"",SUM(V11:AK11))
AL12: =IF(COUNTA(A12:AK12)=0,"",SUM(V12:AK12))
AL13: =IF(COUNTA(A13:AK13)=0,"",SUM(V13:AK13))
AL14: =IF(COUNTA(A14:AK14)=0,"",SUM(V14:AK14))
AL15: =IF(COUNTA(A15:AK15)=0,"",SUM(V15:AK15))
AL16: =IF(COUNTA(A16:AK16)=0,"",SUM(V16:AK16))
... AL104: =IF(COUNTA(A104:AK104)=0,"",SUM(V104:AK104))

Sheet Mengensummen
A1: LipöWAS? - Mengensummen
A3: Material | B3: Gesamtmenge | C3: Hinweis | D3: Spalte in Bestellungen
A4: Plakate A3 - 4 Motive | B4: =SUM(Bestellungen!V$5:V$104) -> 0 | D4: V
A5: Plakate A4 - 4 Motive | B5: =SUM(Bestellungen!W$5:W$104) -> 0 | D5: W
A6: Thekenaufsteller DIN lang | B6: =SUM(Bestellungen!X$5:X$104) -> 0 | D6: X
A7: Handzettel Mitmachen | B7: =SUM(Bestellungen!Y$5:Y$104) -> 0 | D7: Y
A8: Postkarte LipöWAS Region | B8: =SUM(Bestellungen!Z$5:Z$104) -> 0 | D8: Z
A9: Roll-up Betroffene | B9: =SUM(Bestellungen!AA$5:AA$104) -> 0 | D9: AA
A10: Roll-up SHG | B10: =SUM(Bestellungen!AB$5:AB$104) -> 0 | D10: AB
A11: Informationsbroschüre | B11: =SUM(Bestellungen!AC$5:AC$104) -> 0 | D11: AC
A12: Flyer Was ist ein Lipödem? | B12: =SUM(Bestellungen!AD$5:AD$104) -> 0 | D12: AD
A13: Postkarte Motivation 1 - Steine | B13: =SUM(Bestellungen!AE$5:AE$104) -> 0 | D13: AE
A14: Postkarte Motivation 2 - You are enough | B14: =SUM(Bestellungen!AF$5:AF$104) -> 0 | D14: AF
A15: Postkarte Motivation 3 - Plane ein Wunder! | B15: =SUM(Bestellungen!AG$5:AG$104) -> 0 | D15: AG
A16: Postkarte Hast Du vielleicht Lipödem? | B16: =SUM(Bestellungen!AH$5:AH$104) -> 0 | D16: AH
A17: Roll-up LipöG allgemein | B17: =SUM(Bestellungen!AI$5:AI$104) -> 0 | D17: AI
A18: Programm Fachtagung Betroffene - Samstag | B18: =SUM(Bestellungen!AJ$5:AJ$104) -> 0 | C18: Versand Ende September / Anfang Oktober | D18: AJ
A19: Programm SHG-Leitungen - Freitag | B19: =SUM(Bestellungen!AK$5:AK$104) -> 0 | C19: Versand Ende September / Anfang Oktober | D19: AK
A21: Logistik | B21: Anzahl
A22: Bestellungen insgesamt | B22: =COUNTA(Bestellungen!C5:C104) -> 0
A23: Versand | B23: =COUNTIF(Bestellungen!M5:M104,"Versand") -> 0
A24: Abholung | B24: =COUNTIF(Bestellungen!M5:M104,"Abholung") -> 0
A25: Verteilung über SHG / Sponsor | B25: =COUNTIF(Bestellungen!Q5:Q104,"Ja") -> 0
